BEGIN:VCALENDAR
VERSION:2.0
PRODID:-//Dynablaster Sound - ECPv4.5.2.1//NONSGML v1.0//EN
CALSCALE:GREGORIAN
METHOD:PUBLISH
X-WR-CALNAME:Dynablaster Sound
X-ORIGINAL-URL:https://sandbox.dynablaster.net
X-WR-CALDESC:Events for Dynablaster Sound
BEGIN:VEVENT
DTSTART;TZID=UTC+2:20190824T230000
DTEND;TZID=UTC+2:20190825T070000
DTSTAMP:20260419T135931
CREATED:20190811T120408Z
LAST-MODIFIED:20190811T122312Z
UID:433-1566687600-1566716400@sandbox.dynablaster.net
SUMMARY:Zug der Liebe Aftershow Party
DESCRIPTION:\n\nZug der Liebe Reggae HipHop Aftershow Party meets Friedrichshain Calling\n\nMainfloor: (Reggae Dancehall Soca Afrobeats\nBarney Millah\nDynablaster Sound\nLou Large\n\nSecondfloor: (HipHop Disko Soul Funk)\nGrzly Adams\nGrandmaster Blade
URL:https://sandbox.dynablaster.net/?tribe_events=zug-der-liebe-aftershow-party-2
LOCATION:Revaler Str. 99\, Berlin\, Berlin\, 10245\, Deutschland
ATTACH;FMTTYPE=image/jpeg:https://sandbox.dynablaster.net/wp-content/uploads/67693357_2129851923981787_7123446213831032832_o.jpg
END:VEVENT
END:VCALENDAR