BEGIN:VCALENDAR
VERSION:2.0
PRODID:-//Dynablaster Sound - ECPv4.5.2.1//NONSGML v1.0//EN
CALSCALE:GREGORIAN
METHOD:PUBLISH
X-WR-CALNAME:Dynablaster Sound
X-ORIGINAL-URL:https://sandbox.dynablaster.net
X-WR-CALDESC:Events for Dynablaster Sound
BEGIN:VEVENT
DTSTART;TZID=UTC+2:20190921T100000
DTEND;TZID=UTC+2:20190921T220000
DTSTAMP:20260419T140122
CREATED:20190901T122029Z
LAST-MODIFIED:20190901T122029Z
UID:442-1569060000-1569103200@sandbox.dynablaster.net
SUMMARY:World peace Day Umzug\, Brandeburger Tor
DESCRIPTION:Am 21.09. spielen wir auf dem ReggaeInBerlin Truck auf dem World Peace Umzug am Brandenburger Tor.\n\nInfos : https://www.facebook.com/events/1949153198521861/
URL:https://sandbox.dynablaster.net/?tribe_events=world-peace-day-umzug-brandeburger-tor
END:VEVENT
END:VCALENDAR