BEGIN:VCALENDAR
VERSION:2.0
PRODID:-//Dynablaster Sound - ECPv4.5.2.1//NONSGML v1.0//EN
CALSCALE:GREGORIAN
METHOD:PUBLISH
X-WR-CALNAME:Dynablaster Sound
X-ORIGINAL-URL:https://sandbox.dynablaster.net
X-WR-CALDESC:Events for Dynablaster Sound
BEGIN:VEVENT
DTSTART;TZID=UTC+2:20180224T230000
DTEND;TZID=UTC+2:20180225T060000
DTSTAMP:20260421T233845
CREATED:20180130T104511Z
LAST-MODIFIED:20180130T104511Z
UID:207-1519513200-1519538400@sandbox.dynablaster.net
SUMMARY:Wiggle Club @ Musik & Frieden\, Kreuzberg
DESCRIPTION:frontman entertainment & dancehall in berlin presents\nWIGGLE CLUB NIGHT - NEW STYLE - EVERYTHING NICE\nNEW LOCATION: MUSIK & FRIEDEN\n\nDer Wiggle Club geht in die nächste Runde! Die megaaa Party Reihe aus dem Yaam\, wechselt nun in den Club Musik & Frieden. Am 24.02. geht es auf 3 Floors richtig ab! Wir vom Dynablaster Sound spielen ab 04:00 auf dem Main Floor\, Abriss garantiert!\n\nCheck:\nhttps://www.facebook.com/events/386546455134322/\n\nDjs:\nDj Silent Pressure & René Soundwithsoul aka Sound With Soul\nDynablaster Sound\nD J Empror Empror
URL:https://sandbox.dynablaster.net/?tribe_events=wiggle-club-musik-frieden-kreuzberg
LOCATION:Falckensteinstr. 48\, Berlin\, Berlin\, 10997
END:VEVENT
END:VCALENDAR