BEGIN:VCALENDAR
VERSION:2.0
PRODID:-//Dynablaster Sound - ECPv4.5.2.1//NONSGML v1.0//EN
CALSCALE:GREGORIAN
METHOD:PUBLISH
X-WR-CALNAME:Dynablaster Sound
X-ORIGINAL-URL:https://sandbox.dynablaster.net
X-WR-CALDESC:Events for Dynablaster Sound
BEGIN:VEVENT
DTSTART;TZID=UTC+2:20191129T230000
DTEND;TZID=UTC+2:20191130T070000
DTSTAMP:20260419T135920
CREATED:20191102T131425Z
LAST-MODIFIED:20191102T131425Z
UID:471-1575068400-1575097200@sandbox.dynablaster.net
SUMMARY:Who Run the Dance
DESCRIPTION:🎉Who Run the Dance🎉\n🔥New Dance in Berlin 🔥\n\nFreitag 29.11.2019\nDynablaster lädt zum Kräftemessen. Wer liefert die besten Vibes und lässt Eure Hüften Wackeln\, als gäb's kein Morgen?🎧🎼\nIn 3 Runden wird musikalisch um Eure Gunst geworben. 🤜🏾🤛🏾\nVon Reggae\, Dancehall\, über Afrobeat\, bis hin zu Urban Bass und Soca kann alles passieren.\n\nRunde 1: Warmup Runde\nRunde 2: Mashup Runde\nRunde 3: Lieblingstunes Runde\n\nFeiert mit uns und entscheidet selbst\, wer den Dance gewinnt und somit unendlichen Ruhm\, eine Trophäe und etwas zum Begießen\nbekommt.\nDas obligatorische Winner set darf natürlich nicht fehlen.\n\n🎉WHO RUN THE DANCE🎉\n\nDjs:\n👑 Count Shortleg (Dynablaster Sound) vs. 👑 Franky Fyah (Soca Twins)\n\n🎤Hosting by : Cocotone\n🎤MC: Dyna Reen\n\n❓WO:\nBadehaus Berlin\nRevaler Strasse 99\, (auf dem RAW-Gelände\, Zugang Höhe Simon-Dach-Str.)\, 10245 Berlin
URL:https://sandbox.dynablaster.net/?tribe_events=who-run-the-dance
LOCATION:Revaler Strasse 99\, Berlin\, Berlin\, 10245\, Deutschland
ATTACH;FMTTYPE=image/jpeg:https://sandbox.dynablaster.net/wp-content/uploads/who-run-the-dance-a6.jpg
END:VEVENT
END:VCALENDAR