BEGIN:VCALENDAR
VERSION:2.0
PRODID:-//Dynablaster Sound - ECPv4.5.2.1//NONSGML v1.0//EN
CALSCALE:GREGORIAN
METHOD:PUBLISH
X-WR-CALNAME:Dynablaster Sound
X-ORIGINAL-URL:https://sandbox.dynablaster.net
X-WR-CALDESC:Events for Dynablaster Sound
BEGIN:VEVENT
DTSTART;TZID=UTC+2:20190810T233000
DTEND;TZID=UTC+2:20190811T070000
DTSTAMP:20260419T164844
CREATED:20190808T115849Z
LAST-MODIFIED:20190808T115849Z
UID:425-1565479800-1565506800@sandbox.dynablaster.net
SUMMARY:Summer Dance  Hanfparade Aftershow Party @ YAAM\, Berlin
DESCRIPTION:\n\nBerlin\, August & SummerDance im Yaam\nOffizielle Aftershow Party der Hanfparade 2o19\n\nDynablaster Sound\nMawd Pack\nD J Empror Empror\n° ° °\nspecial:  Crazyhype MOB (jamaica)showcase\n\n 
URL:https://sandbox.dynablaster.net/?tribe_events=summer-dance-hanfparade-aftershow-party-yaam-berlin
LOCATION:An der Schillingbrücke/ Stralauer Platz\, YAAM Berlin\,  10243\, Deutschland
END:VEVENT
END:VCALENDAR