BEGIN:VCALENDAR
VERSION:2.0
PRODID:-//Dynablaster Sound - ECPv4.5.2.1//NONSGML v1.0//EN
CALSCALE:GREGORIAN
METHOD:PUBLISH
X-WR-CALNAME:Dynablaster Sound
X-ORIGINAL-URL:https://sandbox.dynablaster.net
X-WR-CALDESC:Events for Dynablaster Sound
BEGIN:VEVENT
DTSTART;TZID=UTC+2:20180817T210000
DTEND;TZID=UTC+2:20180818T010000
DTSTAMP:20260421T145444
CREATED:20180724T233810Z
LAST-MODIFIED:20180724T233810Z
UID:266-1534539600-1534554000@sandbox.dynablaster.net
SUMMARY:Stemweder Open Air
DESCRIPTION:\n\nYeah\, es ist wieder so weit! Steeeemwedeeeeeeee!!\n\nDynablaster am Freitag den 17.08. mit Mr. Müller (die Legende) im DJ-Zelt!\n\nes ist immer noch :\n\nUmsonst & Draußen\n\nDas 42. Stemweder Open Air am 17. & 18.8.2018!\nAlle Infos unter www.stemwederopenair.de\n\n 
URL:https://sandbox.dynablaster.net/?tribe_events=stemweder-open-air-2
END:VEVENT
END:VCALENDAR