BEGIN:VCALENDAR
VERSION:2.0
PRODID:-//Dynablaster Sound - ECPv4.5.2.1//NONSGML v1.0//EN
CALSCALE:GREGORIAN
METHOD:PUBLISH
X-WR-CALNAME:Dynablaster Sound
X-ORIGINAL-URL:https://sandbox.dynablaster.net
X-WR-CALDESC:Events for Dynablaster Sound
BEGIN:VEVENT
DTSTART;TZID=UTC+2:20180421T230000
DTEND;TZID=UTC+2:20180422T070000
DTSTAMP:20260421T192602
CREATED:20180318T143956Z
LAST-MODIFIED:20180406T112123Z
UID:233-1524351600-1524380400@sandbox.dynablaster.net
SUMMARY:Spring Dance @ Yaam\, Berlin
DESCRIPTION:\n\nDynablaster playing @ Spring Dance inna Yama\, Berlin\n\nhttps://www.facebook.com/events/379445269190224/\n\n 
URL:https://sandbox.dynablaster.net/?tribe_events=spring-dance-yaam-berlin
LOCATION:An der Schillingbrücke/ Stralauer Platz\, YAAM Berlin\,  10243\, Deutschland
END:VEVENT
END:VCALENDAR