BEGIN:VCALENDAR
VERSION:2.0
PRODID:-//Dynablaster Sound - ECPv4.5.2.1//NONSGML v1.0//EN
CALSCALE:GREGORIAN
METHOD:PUBLISH
X-WR-CALNAME:Dynablaster Sound
X-ORIGINAL-URL:https://sandbox.dynablaster.net
X-WR-CALDESC:Events for Dynablaster Sound
BEGIN:VEVENT
DTSTART;TZID=UTC+2:20190524T220000
DTEND;TZID=UTC+2:20190525T060000
DTSTAMP:20260423T085011
CREATED:20190516T103806Z
LAST-MODIFIED:20190516T103806Z
UID:391-1558735200-1558764000@sandbox.dynablaster.net
SUMMARY:Skanging Sweet @ Lila Eule\, Bremen
DESCRIPTION:\n\n„Skankin’ Sweet\nEverybody wanna feel irie\nForget your troubles and rock with me\nYou nuh feel how reggae music sweet\, yeah-e-yeah!“\n\nAm 24.05.2019 geht es in der Lila Eule weiter.\n...wake the town and tell the people...\n\nFür diesen Abend laden wir uns ein paar besondere Gäste in die Eule ein. Wir präsentieren\, Big tings ah gwaan\, when DYNABLASTER SOUND celebrates!\n\nZum ersten mal bei uns in der Eule - Straight outta Berlin/Bielefeld: DYNABLASTER.\n\nBio: Die fünftköpfige Crew aus Ostwestfahlen und Berlin\, bestehend aus Jonspecta\, Mad Simon\, MC Teen\, Count Shortleg und Red Sun\, mischen seit ihrer Gründung 2004 die Reggae und Dancehall Szene gehörig auf.\nTanzbarer Dancehall\, Reggae und Sofa sind Hauptbestandteile des breitgefächerten Repertoires der „Selectas“\, mit dem sie es verstehen das Publikum zu rocken.\nEs gibt kaum eine Stadt oder Festival auf dem Dynablaster noch nicht gespielt haben\, deswegen freue wir uns sehr auf die Jungs!\n\nFB-Event : https://www.facebook.com/events/424396855042690/\n\n24.02.2019 I 23Uhr I LILA EULE BREMEN
URL:https://sandbox.dynablaster.net/?tribe_events=skanging-sweet-lila-eule-bremen
END:VEVENT
END:VCALENDAR