BEGIN:VCALENDAR
VERSION:2.0
PRODID:-//Dynablaster Sound - ECPv4.5.2.1//NONSGML v1.0//EN
CALSCALE:GREGORIAN
METHOD:PUBLISH
X-WR-CALNAME:Dynablaster Sound
X-ORIGINAL-URL:https://sandbox.dynablaster.net
X-WR-CALDESC:Events for Dynablaster Sound
BEGIN:VEVENT
DTSTART;TZID=UTC+2:20200411T230000
DTEND;TZID=UTC+2:20200412T070000
DTSTAMP:20260421T080903
CREATED:20200207T221344Z
LAST-MODIFIED:20200207T221344Z
UID:496-1586646000-1586674800@sandbox.dynablaster.net
SUMMARY:Sentinel Superdance X Reens Birthday Bash @ YAAM\, Berlin
DESCRIPTION:A special ting .....\n\nInfos soon...
URL:https://sandbox.dynablaster.net/?tribe_events=sentinel-superdance-x-reens-birthday-bash-yaam-berlin
LOCATION:An der Schillingbrücke/ Stralauer Platz\, YAAM Berlin\,  10243\, Deutschland
END:VEVENT
END:VCALENDAR