BEGIN:VCALENDAR
VERSION:2.0
PRODID:-//Dynablaster Sound - ECPv4.5.2.1//NONSGML v1.0//EN
CALSCALE:GREGORIAN
METHOD:PUBLISH
X-WR-CALNAME:Dynablaster Sound
X-ORIGINAL-URL:https://sandbox.dynablaster.net
X-WR-CALDESC:Events for Dynablaster Sound
BEGIN:VEVENT
DTSTART;TZID=UTC+2:20141011T103000
DTEND;TZID=UTC+2:20141011T170000
DTSTAMP:20260423T121533
CREATED:20141009T195637Z
LAST-MODIFIED:20141009T200234Z
UID:105-1413023400-1413046800@sandbox.dynablaster.net
SUMMARY:Sentinel Super Dance
DESCRIPTION:5TH ANNIVERSARY - SENTINEL SUPERDANCE\nYAAM AN DER SCHILLINGBRÜCKE\ndancehall/reggae/rap/soca\n2 floors & river chill patio\n\nSENTINEL SOUNDSYSTEM\nDYNABLASTER\nBASS STATION\nTHREEKS!\n& GUESTS\n\n"the golden years" floor\nTHE SMELLS (konichiwa bitche$$)\n& GUESTS\n\n 
URL:https://sandbox.dynablaster.net/?tribe_events=sentinel-super-dance
LOCATION:An der Schillingbrücke/ Stralauer Platz\, YAAM Berlin\,  10243\, Deutschland
END:VEVENT
END:VCALENDAR