BEGIN:VCALENDAR
VERSION:2.0
PRODID:-//Dynablaster Sound - ECPv4.5.2.1//NONSGML v1.0//EN
CALSCALE:GREGORIAN
METHOD:PUBLISH
X-WR-CALNAME:Dynablaster Sound
X-ORIGINAL-URL:https://sandbox.dynablaster.net
X-WR-CALDESC:Events for Dynablaster Sound
BEGIN:VEVENT
DTSTART;TZID=UTC+2:20190308T230000
DTEND;TZID=UTC+2:20190309T060000
DTSTAMP:20260421T121422
CREATED:20190210T142054Z
LAST-MODIFIED:20190222T123704Z
UID:340-1552086000-1552111200@sandbox.dynablaster.net
SUMMARY:REWIND! The Berlin Connection Edition
DESCRIPTION:\n\n***** REWIND! MOVIE BIELEFELD *****\nThe Berlin Connection Edition\n\nSounds:\n🔥BASS STATION (BERLIN)\n🔥 SIXTY BAHT ( UP 2 YOU \, BERLIN)\n🔥DYNABLASTER SOUND\n\nrepresenting the best of\nReggae/ Dancehall🍍Afrobeat🍍Jamaican Bass🍍\n\n6 Euro entry\n\nFresh People\, good Music\, nice Drinks !!\n\nMake it a date ❗❗❗\n\nhttp://dynablaster.net/\nhttps://bit.ly/2BeCRDq\nhttps://soundcloud.com/dynablaster
URL:https://sandbox.dynablaster.net/?tribe_events=rewind-the-berlin-connection-edition
LOCATION:Am Bahnhof 6\, Bielefeld\, NRW\, 33602\, Deutschland
END:VEVENT
END:VCALENDAR