BEGIN:VCALENDAR
VERSION:2.0
PRODID:-//Dynablaster Sound - ECPv4.5.2.1//NONSGML v1.0//EN
CALSCALE:GREGORIAN
METHOD:PUBLISH
X-WR-CALNAME:Dynablaster Sound
X-ORIGINAL-URL:https://sandbox.dynablaster.net
X-WR-CALDESC:Events for Dynablaster Sound
BEGIN:VEVENT
DTSTART;TZID=UTC+2:20181109T200000
DTEND;TZID=UTC+2:20181110T070000
DTSTAMP:20260421T133857
CREATED:20181007T183728Z
LAST-MODIFIED:20181007T183751Z
UID:277-1541793600-1541833200@sandbox.dynablaster.net
SUMMARY:Rewind! Deluxe  Reggae & Dancehall Festival @ Movie\, Bielefeld
DESCRIPTION:\n\nRewind Deluxe\n--------------------\nMovie Bielefeld\nAm Bahnhof 6\n\nEinlass: 20 Uhr\nStart: 21 Uhr\n\nLive in Konzert:\nLuke Nuk'em & Chamelion Crew\n\nSounds:\nHerb a lize it - 20 th Anniversary Tour - ( Netherlands)\nDynablaster ( Bielefeld / Berlin)\ndj.mi.like ( Braunschweig)\n\n🎶🎤🇯🇲Mad Dance in Bielefeld 🇯🇲🎤🎶\n↘️Ting called: ↙️\n💥💣Rewind! Deluxe 💣💥\nLive in Concert.the new Dancehall Ambassador\nLuke Nuk Em backed by the great\nChamelion Crew🎸🥁📣🇯🇲\nAaaaaand We very proud to celebrate the🤜🏽\n20th Anniversary of\nHerbalize it Sound 💣outta the Netherlands 🇳🇱\nAlso is playing the new female dancehall Sensation...DJ Mi.like\noutta Braunschweig.\nYour Host of the Night\nDdddddynablaster Sound ✌🏽\n\n \n\n \n\nFB-Event:https://www.facebook.com/events/425981634597667\n\nKonzert FB-Event: https://www.facebook.com/events/2186252668327174/\n\nMixtape by dj.mi.like:\nhttps://soundcloud.com/user-14999982/vbz-mixtape-by-dj-milike-2018\n\nlatest Mix By Dynablaster:\nhttps://soundcloud.com/dynablaster/pon-de-bassline-mixtape-by-dynablaster
URL:https://sandbox.dynablaster.net/?tribe_events=rewind-reggae-dancehall-festival-movie-bielefeld
LOCATION:Am Bahnhof 6\, Bielefeld\, NRW\, 33602\, Deutschland
END:VEVENT
END:VCALENDAR