BEGIN:VCALENDAR
VERSION:2.0
PRODID:-//Dynablaster Sound - ECPv4.5.2.1//NONSGML v1.0//EN
CALSCALE:GREGORIAN
METHOD:PUBLISH
X-WR-CALNAME:Dynablaster Sound
X-ORIGINAL-URL:https://sandbox.dynablaster.net
X-WR-CALDESC:Events for Dynablaster Sound
BEGIN:VEVENT
DTSTART;TZID=UTC+2:20170908T220000
DTEND;TZID=UTC+2:20170909T060000
DTSTAMP:20260423T123728
CREATED:20170609T120124Z
LAST-MODIFIED:20170824T074937Z
UID:135-1504908000-1504936800@sandbox.dynablaster.net
SUMMARY:REWIND! oldschool Dancehall Party im Movie\, Bielefeld
DESCRIPTION:\n\n'REWIND!'\nand come back again!\n\nStart : 22 Uhr\nEintritt: 6 Euro\n\nWir gehen mit Euch zurück in die Zeit und feiern "die guten alten Tage". Rewind ist das Motto: gespielt wird alles\, was in den 90's und frühen 2000's in der Dancehall lief. Reggae\, Dancehall\, Rub a Dub\, Roots und Ragga all night long!\n\nBeenieman\, Shabba Ranks\, Mr. Vegas\, Bounty Killer\, Mad Cobra\, Buju Banton\, Elephantman\, Cutty Ranks\, Super Cat\, General Degree\, Shaggy\, Sean Paul\, Dirtsman\, Red Rat\, Ward 21\, Tony Rebel\, TOK\, Alozade\, Lexxus\, Baby Cham\, Lady Saw\, Tanya Stephens\, Sizzla\, Buccaneer\, Capleton\,...... just to mention a few!\n\nAn den Regelern stehen:\n\nDynablaster (Bielefeld/Berlin)\n\n https://www.facebook.com/Dynablaster/?fref=ts\n\nEvent Link : https://www.facebook.com/events/770514333128475/?ref=br_rs\n\nSo everybody who celebrates the good old times\, run come dance!
URL:https://sandbox.dynablaster.net/?tribe_events=rewind-oldschool-dancehall-party-im-movie-bielefeld
LOCATION:Am Bahnhof 6\, Bielefeld\, NRW\, 33602\, Deutschland
END:VEVENT
END:VCALENDAR