BEGIN:VCALENDAR
VERSION:2.0
PRODID:-//Dynablaster Sound - ECPv4.5.2.1//NONSGML v1.0//EN
CALSCALE:GREGORIAN
METHOD:PUBLISH
X-WR-CALNAME:Dynablaster Sound
X-ORIGINAL-URL:https://sandbox.dynablaster.net
X-WR-CALDESC:Events for Dynablaster Sound
BEGIN:VEVENT
DTSTART;TZID=UTC+2:20191025T230000
DTEND;TZID=UTC+2:20191026T060000
DTSTAMP:20260419T135956
CREATED:20190901T122343Z
LAST-MODIFIED:20190924T113820Z
UID:441-1572044400-1572069600@sandbox.dynablaster.net
SUMMARY:Rewind! Movie\, Bielefeld
DESCRIPTION:\n\nEndlich wieder Rewind! im Movie Bielefeld!\n\n***** REWIND! MOVIE BIELEFELD *****\n\n🔥DYNABLASTER SOUND 🔥\n\nrepresenting the best of\nReggae/ Dancehall🍍Afrobeat🍍Jamaican Bass🍍Soca\n\nFresh People\, good Music\, nice Drinks !!\n\nMake it a date ❗❗❗
URL:https://sandbox.dynablaster.net/?tribe_events=rewind-movie-bielefeld-3
LOCATION:Am Bahnhof 6\, Bielefeld\, NRW\, 33602\, Deutschland
ATTACH;FMTTYPE=image/jpeg:https://sandbox.dynablaster.net/wp-content/uploads/70594738_10157183294212795_3202198620849831936_o.jpg
END:VEVENT
END:VCALENDAR