BEGIN:VCALENDAR
VERSION:2.0
PRODID:-//Dynablaster Sound - ECPv4.5.2.1//NONSGML v1.0//EN
CALSCALE:GREGORIAN
METHOD:PUBLISH
X-WR-CALNAME:Dynablaster Sound
X-ORIGINAL-URL:https://sandbox.dynablaster.net
X-WR-CALDESC:Events for Dynablaster Sound
BEGIN:VEVENT
DTSTART;TZID=UTC+2:20191005T230000
DTEND;TZID=UTC+2:20191006T070000
DTSTAMP:20260419T140028
CREATED:20181121T112210Z
LAST-MODIFIED:20190922T130711Z
UID:313-1570316400-1570345200@sandbox.dynablaster.net
SUMMARY:Pow Pow pon di Road ls. Dynablaster @ Cassiopeia\, Berlin
DESCRIPTION:Jeden ersten Samstag heiß es PowPow Pon di Road\n\nPow Pow Movement\nDynablaster Sound\n\n+ 90'er Floor\n+ Gameslounge\n\n 
URL:https://sandbox.dynablaster.net/?tribe_events=pow-pow-pon-di-road-ls-dynablaster-cassiopeia-berlin
LOCATION:Revaler Str. 99\, Berlin\, Berlin\, 10245\, Deutschland
ATTACH;FMTTYPE=image/jpeg:https://sandbox.dynablaster.net/wp-content/uploads/70480539_10156344408226759_5437186901746384896_o.jpg
END:VEVENT
END:VCALENDAR