BEGIN:VCALENDAR
VERSION:2.0
PRODID:-//Dynablaster Sound - ECPv4.5.2.1//NONSGML v1.0//EN
CALSCALE:GREGORIAN
METHOD:PUBLISH
X-WR-CALNAME:Dynablaster Sound
X-ORIGINAL-URL:https://sandbox.dynablaster.net
X-WR-CALDESC:Events for Dynablaster Sound
BEGIN:VEVENT
DTSTART;TZID=UTC+2:20190202T233000
DTEND;TZID=UTC+2:20190203T070000
DTSTAMP:20260421T133642
CREATED:20190106T184756Z
LAST-MODIFIED:20190106T184756Z
UID:327-1549150200-1549177200@sandbox.dynablaster.net
SUMMARY:Pow Pow pon di Road ls Dynablaster
DESCRIPTION:Pow Pow Movement (Köln)\n\nDynablaster Sound (Berlin / Bielefeld)\n\nIm Cassiopeia Berlin
URL:https://sandbox.dynablaster.net/?tribe_events=pow-pow-pon-di-road-ls-dynablaster-2
LOCATION:Revaler Str. 99\, Berlin\, Berlin\, 10245\, Deutschland
END:VEVENT
END:VCALENDAR