BEGIN:VCALENDAR
VERSION:2.0
PRODID:-//Dynablaster Sound - ECPv4.5.2.1//NONSGML v1.0//EN
CALSCALE:GREGORIAN
METHOD:PUBLISH
X-WR-CALNAME:Dynablaster Sound
X-ORIGINAL-URL:https://sandbox.dynablaster.net
X-WR-CALDESC:Events for Dynablaster Sound
BEGIN:VEVENT
DTSTART;TZID=UTC+2:20171202T220000
DTEND;TZID=UTC+2:20171203T060000
DTSTAMP:20260423T122139
CREATED:20171130T142112Z
LAST-MODIFIED:20171130T142112Z
UID:189-1512252000-1512280800@sandbox.dynablaster.net
SUMMARY:Pow Pow pon di Road ls. Dynablaster
DESCRIPTION:PowPow Pon di Road\n\nMainFloor:\nPow Pow Movement\nDynablaster Sound\nBass Station Berlin\n\nTop90'er Floor:\n\nEichel 65\nDJ Witboy\n\n
URL:https://sandbox.dynablaster.net/?tribe_events=pow-pow-pon-di-road-ls-dynablaster
LOCATION:An der Schillingbrücke/ Stralauer Platz\, YAAM Berlin\,  10243\, Deutschland
END:VEVENT
END:VCALENDAR