BEGIN:VCALENDAR
VERSION:2.0
PRODID:-//Dynablaster Sound - ECPv4.5.2.1//NONSGML v1.0//EN
CALSCALE:GREGORIAN
METHOD:PUBLISH
X-WR-CALNAME:Dynablaster Sound
X-ORIGINAL-URL:https://sandbox.dynablaster.net
X-WR-CALDESC:Events for Dynablaster Sound
BEGIN:VEVENT
DTSTART;TZID=UTC+2:20171002T220000
DTEND;TZID=UTC+2:20171003T050000
DTSTAMP:20260423T122914
CREATED:20170824T075657Z
LAST-MODIFIED:20170824T075657Z
UID:165-1506981600-1507006800@sandbox.dynablaster.net
SUMMARY:Pow Pow Movement ls. Dynablaster@ Forum\, Bielefeld
DESCRIPTION:\n\nAm 02.10. laden wir zur "We Run it " Party in das Forum Bielefeld ein.
URL:https://sandbox.dynablaster.net/?tribe_events=pow-pow-movement-ls-dynablaster-forum-bielefeld
LOCATION:Mellerstr. 2\, Bielefeld\, NRW\, 33613\, Deutschland
END:VEVENT
END:VCALENDAR