BEGIN:VCALENDAR
VERSION:2.0
PRODID:-//Dynablaster Sound - ECPv4.5.2.1//NONSGML v1.0//EN
CALSCALE:GREGORIAN
METHOD:PUBLISH
X-WR-CALNAME:Dynablaster Sound
X-ORIGINAL-URL:https://sandbox.dynablaster.net
X-WR-CALDESC:Events for Dynablaster Sound
BEGIN:VEVENT
DTSTART;TZID=UTC+2:20180203T080000
DTEND;TZID=UTC+2:20180204T170000
DTSTAMP:20260422T010647
CREATED:20180103T220433Z
LAST-MODIFIED:20180103T220433Z
UID:199-1517644800-1517763600@sandbox.dynablaster.net
SUMMARY:Pon di Road ls. Pow Pow Movement @ Cassiopeia / Berlin
DESCRIPTION:Pon di Road @ Cassiopeia Berlin \nDancehall/ Reggae/ Afrobeats Floor \nPow Pow Movement  (Köln)\n\nDynablaster Sound  (Bielefeld/Berlin)\n\nBass Station    (Berlin)\nTOP 90´s Floor\n \n\nTBA
URL:https://sandbox.dynablaster.net/?tribe_events=pon-di-road-ls-pow-pow-movement-cassiopeia-berlin-2
LOCATION:Revaler Str. 99\, Berlin\, Berlin\, 10245\, Deutschland
END:VEVENT
END:VCALENDAR