BEGIN:VCALENDAR
VERSION:2.0
PRODID:-//Dynablaster Sound - ECPv4.5.2.1//NONSGML v1.0//EN
CALSCALE:GREGORIAN
METHOD:PUBLISH
X-WR-CALNAME:Dynablaster Sound
X-ORIGINAL-URL:https://sandbox.dynablaster.net
X-WR-CALDESC:Events for Dynablaster Sound
BEGIN:VEVENT
DTSTART;TZID=UTC+2:20180505T230000
DTEND;TZID=UTC+2:20180506T070000
DTSTAMP:20260421T163034
CREATED:20180318T143012Z
LAST-MODIFIED:20180318T144039Z
UID:231-1525561200-1525590000@sandbox.dynablaster.net
SUMMARY:Pon di Road Ls. Pow Pow Movement & Dynablaster
DESCRIPTION:Pon di Road\nPow Pow Movement\nDynablaster Sound\nBass Station\n \n+++++90´s Floor+++++
URL:https://sandbox.dynablaster.net/?tribe_events=pon-di-road-ls-pow-pow-movement
LOCATION:Revaler Str. 99\, Berlin\, Berlin\, 10245\, Deutschland
END:VEVENT
END:VCALENDAR