BEGIN:VCALENDAR
VERSION:2.0
PRODID:-//Dynablaster Sound - ECPv4.5.2.1//NONSGML v1.0//EN
CALSCALE:GREGORIAN
METHOD:PUBLISH
X-WR-CALNAME:Dynablaster Sound
X-ORIGINAL-URL:https://sandbox.dynablaster.net
X-WR-CALDESC:Events for Dynablaster Sound
BEGIN:VEVENT
DTSTART;TZID=UTC+2:20190302T230000
DTEND;TZID=UTC+2:20190303T070000
DTSTAMP:20260421T133722
CREATED:20190222T121208Z
LAST-MODIFIED:20190222T121208Z
UID:349-1551567600-1551596400@sandbox.dynablaster.net
SUMMARY:Pon di Road Carnival WarmUp
DESCRIPTION:\n\nPON DI ROAD Carnival WarmUp Special\nzum Reggaeinberlin.de Truck auf dem KdK am 9.6.2019\n\nLive BAY-C ( T.O.K. )\n\nSounds:\nDynablaster Sound\nBass Station Berlin\nSolid Ground Sound\nLou Large\n\n+ 90's HipHop Floor\nMystic Bo and Guests
URL:https://sandbox.dynablaster.net/?tribe_events=pon-di-road-carnival-warmup
LOCATION:Revaler Str. 99\, Berlin\, Berlin\, 10245\, Deutschland
END:VEVENT
END:VCALENDAR