BEGIN:VCALENDAR
VERSION:2.0
PRODID:-//Dynablaster Sound - ECPv4.5.2.1//NONSGML v1.0//EN
CALSCALE:GREGORIAN
METHOD:PUBLISH
X-WR-CALNAME:Dynablaster Sound
X-ORIGINAL-URL:https://sandbox.dynablaster.net
X-WR-CALDESC:Events for Dynablaster Sound
BEGIN:VEVENT
DTSTART;TZID=UTC+2:20190301T230000
DTEND;TZID=UTC+2:20190302T070000
DTSTAMP:20260421T133733
CREATED:20190210T145426Z
LAST-MODIFIED:20190210T145426Z
UID:342-1551481200-1551510000@sandbox.dynablaster.net
SUMMARY:Inviolable X Welcome to Kreuzberg
DESCRIPTION:🎵💥🎵💥🎵💥\n\n\nDie erste #Dancehall Party im Prince Charles war wie alle\, die da waren bestätigen können wirklich der Überknaller und genau das was viele vermisst haben.\nDas Ambiente der Venue hat begeisternde #Vibes kreiert und es ist Super\, dass schon der nächste #Dance in diesem Club bekannt gegeben werden kann.\n\nEuropas top juggling Sound Pow Pow Movement ist gerne mal pon di #Road und am Freitag den 1 März werden wir sie in #Kreuzberg willkommen heissen.\n\nMit von der Party ist wieder die #family\, und zwar diesmal: @CITY LOCK\, Sensi Movement\, TIMELESS SOUND & Dynablaster Sound\n\n🍾💥🍾💥🍾💥
URL:https://sandbox.dynablaster.net/?tribe_events=inviolable-x-welcome-to-kreuzberg
LOCATION:Prinzenstr. 85\, Berlin\, Berlin\, 10969\, Deutschland
END:VEVENT
END:VCALENDAR