BEGIN:VCALENDAR
VERSION:2.0
PRODID:-//Dynablaster Sound - ECPv4.5.2.1//NONSGML v1.0//EN
CALSCALE:GREGORIAN
METHOD:PUBLISH
X-WR-CALNAME:Dynablaster Sound
X-ORIGINAL-URL:https://sandbox.dynablaster.net
X-WR-CALDESC:Events for Dynablaster Sound
BEGIN:VEVENT
DTSTART;TZID=UTC+2:20180901T180000
DTEND;TZID=UTC+2:20180901T233000
DTSTAMP:20260421T150834
CREATED:20180724T233103Z
LAST-MODIFIED:20180724T233103Z
UID:264-1535824800-1535844600@sandbox.dynablaster.net
SUMMARY:Food´n´Music Wohnbau Summer Open Air in Lemgo
DESCRIPTION:\n\nFor More Info´s please check Facebook on the Link below.\n\nFB-Event Link :  https://www.facebook.com/events/1907284089600367/
URL:https://sandbox.dynablaster.net/?tribe_events=foodnmusic-wohnbau-summer-open-air-in-lemgo
END:VEVENT
END:VCALENDAR