BEGIN:VCALENDAR
VERSION:2.0
PRODID:-//Dynablaster Sound - ECPv4.5.2.1//NONSGML v1.0//EN
CALSCALE:GREGORIAN
METHOD:PUBLISH
X-WR-CALNAME:Dynablaster Sound
X-ORIGINAL-URL:https://sandbox.dynablaster.net
X-WR-CALDESC:Events for Dynablaster Sound
BEGIN:VEVENT
DTSTART;TZID=UTC+2:20181230T230000
DTEND;TZID=UTC+2:20181231T080000
DTSTAMP:20260421T133805
CREATED:20181121T114611Z
LAST-MODIFIED:20181121T114611Z
UID:319-1546210800-1546243200@sandbox.dynablaster.net
SUMMARY:Everything Nice / Wiggle Club - 2o19 WarmUp Party @ Yaam\, Berlin
DESCRIPTION:Everything Nice / Wiggle Club - 2o19 WarmUp Party\nDynablaster Sound in Yaam Berlin.\n\nMore Info´s soon come!\n\nCheck : https://www.facebook.com/events/539233539869420/\n\n 
URL:https://sandbox.dynablaster.net/?tribe_events=everything-nice-wiggle-club-2o19-warmup-party-yaam-berlin
LOCATION:An der Schillingbrücke/ Stralauer Platz\, YAAM Berlin\,  10243\, Deutschland
END:VEVENT
END:VCALENDAR