BEGIN:VCALENDAR
VERSION:2.0
PRODID:-//Dynablaster Sound - ECPv4.5.2.1//NONSGML v1.0//EN
CALSCALE:GREGORIAN
METHOD:PUBLISH
X-WR-CALNAME:Dynablaster Sound
X-ORIGINAL-URL:https://sandbox.dynablaster.net
X-WR-CALDESC:Events for Dynablaster Sound
BEGIN:VEVENT
DTSTART;TZID=UTC+2:20190615T130000
DTEND;TZID=UTC+2:20190615T160000
DTSTAMP:20260419T234238
CREATED:20190516T104228Z
LAST-MODIFIED:20190516T104228Z
UID:393-1560603600-1560614400@sandbox.dynablaster.net
SUMMARY:Dynablaster/German Soca Junkies Truck @ Bielefelder Carnival der Kulturen 2019
DESCRIPTION:\n\nDynablaster/German Soca Junkies Truck @ Bielefelder Carnival der Kulturen 2019\n\nFB-Event: https://www.facebook.com/events/2230958993636400/\n\nxxx For english please scroll down xxx\n\nZum vierten Mal wird es beim Carnival der Kulturen in Bielefeld einen Truck von Dynablaster Sound und den German Soca Junkies geben.\nVom Startpunkt\, der Schloßhofstr./Melanchthonstr. bis hin zum Ravensberger Park werden wir Bielefeld zu 50% mit Dancehall und 50% Soca beschallen.\n\nUm beste Vibes zu garantieren haben wir für euch folgendes DJ Line Up auf dem Truck:\n\nDynablaster Sound – Bielefeld\nHigh Score Sound – Berlin\n\n\nAls der letzte Truck vom gesamten Umzug\, möchten wir euch einladen\, unter dem Motto „Famalay“ mit uns zu feiern.\nUm den Truck zu unterstützen könnt ihr euer Support T-Shirt per Nachricht bei German Soca Junkies bestellen.\n\nDas Wichtigste auf einen Blick:\n\nWann? 15.06.2019 - 15 Uhr\nWo? Schloßhofstr./Melanchthonstr. bis zum Ravensberger Park\n\nLinks\nhttps://www.facebook.com/Dynablaster\nhttps://www.facebook.com/highscoresound\nhttps://www.facebook.com/GermanSocaJunkies\nhttp://www.carnival-bielefeld.de/\n\nxxxxxxxxxxxxxxxxxxxxxxxxxxx\n\nEnglish:\n\nFor the fourth time at Bielefeld Carnival der Kulturen\, there will be a Dynablaster and German Soca Junkies Truck.\nWe will play 50% Dancehall and 50% Soca from the starting point at Schloßhostr./Melanchthonstr. up until the end at Ravensberger Park.\n\nTo guarantee best vibes we are having the following DJ's on the Truck:\n\nDynablaster Sound – Bielefeld/Berlin\nHigh Score Sound – Berlin\nSpecial Guests\n\nWe want to invite all of you to have a good day with us at the last Truck of the Roadmarch with our theme „Famalay“.\n\nYou can purchase your t-shirt to support the Truck via message at German Soca Junkies.\n\nGeneral infos:\n\nWhen? 15.06.2019\nWhere? Schloßhofstr./Melanchthonstr. to Ravensberger Park
URL:https://sandbox.dynablaster.net/?tribe_events=dynablastergerman-soca-junkies-truck-bielefelder-carnival-der-kulturen-2019
END:VEVENT
END:VCALENDAR