BEGIN:VCALENDAR
VERSION:2.0
PRODID:-//Dynablaster Sound - ECPv4.5.2.1//NONSGML v1.0//EN
CALSCALE:GREGORIAN
METHOD:PUBLISH
X-WR-CALNAME:Dynablaster Sound
X-ORIGINAL-URL:https://sandbox.dynablaster.net
X-WR-CALDESC:Events for Dynablaster Sound
BEGIN:VEVENT
DTSTART;TZID=UTC+2:20210731T213000
DTEND;TZID=UTC+2:20210801T001000
DTSTAMP:20260421T080847
CREATED:20210728T081425Z
LAST-MODIFIED:20210728T081425Z
UID:595-1627767000-1627776600@sandbox.dynablaster.net
SUMMARY:Count Shortleg Birthday Online Bash @ Twitch
DESCRIPTION:🚨BIRTHDAY 🚨BASH🚨ONLINE\n\nWir freuen uns ultraaa euch am Sa. 31.07. mit dem faboulösen\, großartigen und einmaligen Selecta:\n🔥COUNT SHORTLEG🔥\n\nIn seinen Geburtstag reinfeiern zu dürfen.\n\nWir werden gemeinsam dick abrocken und uns fühlen wie im Club vor der Box !\n\nEs wird an diesem Abend auch eine neuer REGULAR DANCE in Berlin bekannt gegeben.\nPlus Special Gewinnspiel nur für alle die online sind.\n\nNatürlich nur mit dem Original REEN SCREEN !\n\nWir freue uns auf euch #dynalove❤\n\n➡️https://www.twitch.tv/dynablastersound⬅️\n\n \n\n🚨BIG ONLINE BIRTHDAY DANCE🚨Count Shortleg of DYNABLASTER SOUND🚨\n🎐31th of July\n⏰9:30 pm CET\n\n \n\n➡️https://www.twitch.tv/dynablastersound⬅️\n\nBIG TUNES ONLY !!!!!\nDANCEHALL🕯️ /REGGAE 🪔/ AFROBEATS 🧨/
URL:https://sandbox.dynablaster.net/?tribe_events=count-shortleg-birthday-online-bash-twitch
END:VEVENT
END:VCALENDAR