BEGIN:VCALENDAR
VERSION:2.0
PRODID:-//Dynablaster Sound - ECPv4.5.2.1//NONSGML v1.0//EN
CALSCALE:GREGORIAN
METHOD:PUBLISH
X-WR-CALNAME:Dynablaster Sound
X-ORIGINAL-URL:https://sandbox.dynablaster.net
X-WR-CALDESC:Events for Dynablaster Sound
BEGIN:VEVENT
DTSTART;TZID=UTC+2:20171226T220000
DTEND;TZID=UTC+2:20171227T060000
DTSTAMP:20260423T110914
CREATED:20171130T142502Z
LAST-MODIFIED:20171130T142502Z
UID:192-1514325600-1514354400@sandbox.dynablaster.net
SUMMARY:CHRISTMAS BOUNCE! @ Movie Bielefeld
DESCRIPTION:CHRISTMAS BOUNCE!\n\n\nWeihnachtszeit is Familienzeit - um dieses Gefühl noch etwas zu verstärken\, gibt es ein großes Zusammenkommen im Movie Bielefeld\, um die alten Tage zu feiern!\n\nStart : 22 Uhr\nEintritt: 6 Euro\n\nYour favorite Reggae & Dancehall Tunes from all times.\n\nMixed by:\n\n\nDynablaster\nhttps://www.facebook.com/Dynablaster/?fref=ts\nhttps://soundcloud.com/dynablaster\n\n
URL:https://sandbox.dynablaster.net/?tribe_events=christmas-bounce-movie-bielefeld
LOCATION:Am Bahnhof 6\, Bielefeld\, NRW\, 33602\, Deutschland
END:VEVENT
END:VCALENDAR