BEGIN:VCALENDAR
VERSION:2.0
PRODID:-//Dynablaster Sound - ECPv4.5.2.1//NONSGML v1.0//EN
CALSCALE:GREGORIAN
METHOD:PUBLISH
X-WR-CALNAME:Dynablaster Sound
X-ORIGINAL-URL:https://sandbox.dynablaster.net
X-WR-CALDESC:Events for Dynablaster Sound
BEGIN:VEVENT
DTSTART;TZID=UTC+2:20180609T220000
DTEND;TZID=UTC+2:20180610T100000
DTSTAMP:20260421T150844
CREATED:20180406T104147Z
LAST-MODIFIED:20180406T104147Z
UID:241-1528581600-1528624800@sandbox.dynablaster.net
SUMMARY:Carnival Special in 5 Clubs !!! Bielefeld CDK-Kulturfestival
DESCRIPTION:Special by Dynablaster und Bahndamm Rockers\n\n*Carnival Special*\nSechs Partys – EIN Eintritt (8 € VVK/10€ Abendkasse)\nSamstag 09.06.2018 ab 23 Uhr\n\n\nClub 1\nOrt: Nr.z.P.\nhttps://www.facebook.com/nummerzuplatz/?fref=ts\nTechno\, Deep House\, Dark Techno\nmit:\nSystem of Ice (Nulectric\, Nr. z. P.)\nPaul Vollmer (Klangfarben / Bielefed)\nGrayscale ( Nulectric/Bielefeld )\n\nClub 2\nOrt: Cutie \nhttps://www.facebook.com/cutiecutiecutie/?fref=ts\nG Funk\, Funk\, Soul\, HipHop\, RnB\nmit:\nDJ KidCut (Hannover)\nJust a Kid (Oldenburg Sucuk Maffia)\n\nClub 3\nOrt: Stereo (jeder weißt wo das Stereo ist.)\nhttp://www.stereo-bielefeld.de/\n\nDub\, Hip Hop\, Tropical Bass and Dubstep / House\nStart 24:00 Uhr\nmit:\nim Club:\nDj Vadim (London\, I m the Terrorist www.djvadim.com)\nIrie Worryah (G-Höre Gang/Pok Musik / Detmold )\nDa Killa ( Spice Tuna/Bielefeld )\n\nWald:\nDaniel Morellie (Kookie Record Shop / Bielefed )\nLaurin Schafhausen ( Event Corp/Bielefeld )\nFrank Barkey  (Vinylmania/Berlin/Bielefeld )\n\nClub 4\nOrt: Movie “Main Soca Dancehall Spot” (Hauptbahnhof.)\nwww.movie-bielefeld.de\n\nSoca\, Dancehall and Reggae\nStart ab 23 Uhr\n\nFlagz Sound ( London)\nSoca Twins (Berlin)\nDynablaster (Bielefeld/Berlin)\n\nHigh Score (Berlin)\nBurningspectre (Versmold )\nTeam Thunda (Dortmund )\nClub 5\n\nAfterhouer  Floor\nOrt Sam`s\nab 03:00 Sonntag bis open End\nhttp://club-sams.de/\n\nFloor oben Reggae\, Dancehall\, Hip Hop mit jemandem aus dem Movie Programm\n\nFloor unten Techno Tech House Deep House mit dem üblichen Verdächtigen\n\nAchtung 4 € Mind. Verzehr !!!\n\nEs ist Karnevalszeit in Bielefeld! Carnival der Kulturen!\nDieses Jahr haben wir eine richtige Bombe gezündet  ! Die dickste Carnival Party Bielefelds findet in 5 Clubs statt. Es ist für jeden was dabei:\n\nSoca\, Dancehall\, Hip Hop\, Funk\, House\, Dubstep\, Trap und Techno. \n\nBASS\, BASS\, BÄM!\n\nClub1: \n\nDas Nr.z.Platz steht im Zeichen von harten Techno Beats und fettem Bass. \n\nWer richtig abdäncen möchte ist genau richtig. Die üblichen Verdächtigen der Bielefelder Techno Szene geben sich hier die Ehre. Da gehts ab! \n\nClub 2:\n\nIn dem zweiten Club im Cutie gibts es G Funk\, Funk\, Soul\, HipHop\, Breaks.\nKid Cut\, der DJ aus Hannover und Just a Kid aus Oldenburg\, sind beide auf der ganzen auf Welt unterwegs\, um auf den großen Breakdance Battles funky Beats zum Besten zu geben ("Battle of the Year" und "B-Boy Massaker").\n\nDort erwartet euch unglaubliche Show mit allen (!) Hits. \n\nClub 3:\n\nIm dritten Club (Stereo) wird eine ganz besonderes Feuerwerk gezündet! \n\nEs ist DJ Vadim aus London zu Gast\, er wird ein buntes Programm aus Hip Hop\, Dub\, Dubstep\, Tropical Bass\, Dancehall an Start bringen. Seine DJ skills sind weltweit bekannt. \n\nDJ Vadim wurde für den Grammy nominiert und hat für seine Radio Show den Sony Award bekommen. \n\nEr ist seit 20 Jahren am musizieren und bereits in über 77 Ländern aufgelegt\, also ein richtiger Tausendsassa. \n\nMit dabei: Spicy Tuna\, ist vielen Bielefeldern von den Carnivalsessions rund um das Mocca Klatsch\, Kado und Schicksal ein Begriff. Seit Jahren geht hier die Straßenparty zum CDK ab. Und wird im Stereo\, Bielefeld mitrocken!\n\nAuf dem House Floor (Stereo\, im Wald) finden sich Laurin Schafhausen und\nDaniel Morelli ein. Die beiden haben bis jetzt noch jeden zum tanzen bekommen! Es gibt natürlich die dicksten und  aktuellen House-Hits auf die Ohren!\n\nClub 4:\n\nDer vierte Club im Zeichen des karibischen Carnivals von Trinidad & Tobago. Die dort geprägte Musik (Soca) ist ein Musikstil\, der auch in Europa bereits Massen begeistern konnte. Kein Wunder\, wenn diese Musik gekonnt von DJ Franky Fyah und seinen Soca Twins aus Berlin präsentiert wird! Die Soca Twins sind nämlich nicht nur Deutschlands #1 Soca Sound\, sondern mischen auch weltweit unter den besten Soca Sounds überhaupt mit! Sogar in der Heimat des Soca\, in Trinidad & Tobago\, ist ihr Name in aller Munde! Awards wie "International Soca DJs of the Year" (2011) oder für den "Best Soca Mix" (2008) bestätigen nur die Klasse dieses Sounds.\n\nTeam Thunder ist der Soca Sound aus dem Ruhrpott. Er repräsentiert die Musik aus Trinidad wie kein anderer. Da bleibt keiner stehen!\nDj High Score aus Berlin legt seit Jahren in den einschlägigen Berliner Clubs wie Yaam\, Cassiopeia etc. auf. Von ihm ist eine gute Mischung aus neuesten Soca Tunes und heißen Dancehall Beats zu erwarten.\nNatürlich sind auch die Jungs von Burningspectre als OWLs #1 Soca-Sound mit dabei. Carnival Feeling made in OWL!\nUnd schließlich geben sich die Bielefelder Dancehall-Könige vom Dynablaster Sound die Ehre!\n\nClub 5:\nWer nicht genug bekommen kann\, geht ab 3 Uhr ins berühmte Sam´s. Dort gibt es Afterhour mit open End\, auf zwei Floors. Einer mit House und Techno einer mit Soca\, Dancehall\, RnB\n\nDas sollte sich wirklich keiner entgehen lassen! 
URL:https://sandbox.dynablaster.net/?tribe_events=carnival-special-in-5-clubs-bielefeld-cdk-kulturfestival
LOCATION:Am Bahnhof 6\, Bielefeld\, NRW\, 33602\, Deutschland
END:VEVENT
END:VCALENDAR