BEGIN:VCALENDAR
VERSION:2.0
PRODID:-//Dynablaster Sound - ECPv4.5.2.1//NONSGML v1.0//EN
CALSCALE:GREGORIAN
METHOD:PUBLISH
X-WR-CALNAME:Dynablaster Sound
X-ORIGINAL-URL:https://sandbox.dynablaster.net
X-WR-CALDESC:Events for Dynablaster Sound
BEGIN:VEVENT
DTSTART;TZID=UTC+2:20190330T230000
DTEND;TZID=UTC+2:20190331T063000
DTSTAMP:20260421T121553
CREATED:20190313T163057Z
LAST-MODIFIED:20190313T163057Z
UID:357-1553986800-1554013800@sandbox.dynablaster.net
SUMMARY:Bigger Bashment Hannover ls. Rebel Sound
DESCRIPTION:\n\nThe finest Reggae • Dancehall • Afrobeats • Hip Hop & Soca presented by Rebel Sound\n\nImpression: www.vimeo.com/290944823\n\nMusic played by:\n- Dynablaster (Bielefeld/Berlin)\n- Rebel Sound (Hannover/Resident)\n\nVon Roots Reggae über Rub a Dub bis hin zu Dancehall\, Afrobeats und Soca haben Rebel Sound alles im Party-Programm\, was das Herz begehrt.\n\nIn Hannover ist Rebel Sounds Partyreihe Bigger Bashment seit 13 Jahren die Top-Adresse für alle Reggae- und Dancehall-Fans der Republik.\nDoch auch überregional hat sich die Crew mit ihren Remixen einen Namen gemacht.\nEgal\, ob in den japanischen Dancehall-Charts oder auf dem bekannten Nottinghill Carnival in London. Johnny Dangers\, Jahrones und Paul Beatz’ Produktionen überzeugen sowohl den normalen Partygänger als auch den eingefleischten Szene-Kenner.\n\nDynablaster:\nDie fünfköpfige Crew aus Ostwestfalen und Berlin\, bestehend aus Jonspecta\, Simon\, Reen\, Red Sun und Count Shortleg mischt seit ihrer Gründung 2004 die Reggae/Dancehall Szene gehörig auf. Sie haben sich vor allem durch ihre Mix-CD´s / Tapes wie „We´ll kill“ „Mad Mix“ „Dynasty“ etc. die sie auf diversen Festivals unter die Leute brachten\, einen Namen gemacht.\n\nIn vielen Städten Deutschlands haben sie bereits für ordentliche Party gesorgt vor allem aber in ihren Hometowns Berlin und Bielefeld.\n\nTanzbarer Dancehall\, Reggae und Soca sind Hauptbestandteile ihres breit gefächerten Reportoires\, mit dem sie es verstehen\, das Publikum zu rocken. Außerdem ist Reen ein MC der die Massive wie kein zweiter einheizen kann.\n\nIn Berlin sind sie jeden Monat (erster Samstag ) auf der Pon di Road Party mit dem Pow Pow Movement (Köln) zu finden im Cassiopeia. Außerdem seit Jahren ein fester Bestandteil des Karneval der Kulturen Roadmarch.\n\nIn Bielefeld veranstalten sie die dicksten Dances ihrer Heimastadt\, im Forum. Wo sie mit Top Sounds wie : Jugglerz\, Pow Pow\, Silly Walks\, Herb-a-lize It\, Dj Waxfiend etc. die Halle rocken.\nAber auch im Movie Bielefeld hat sich einer neuer Dance Namens Rewind! etabliert.\n\n-> http://dynablaster.net\n-> https://www.facebook.com/Dynablastersound\n\nKaboom! Reggae Music is Rebel Music!\n\nFor the early birds:\n+++FREE GIVEAWAY'S SPONSORED BY GIZEH+++\n\nDoors: 23:00\n\nEntry [Kombiticket]: 6 €\n\nAchtung: Das Eintritts-Ticket gilt auch für die Ä30 Party in der 60er-Jahre Halle!
URL:https://sandbox.dynablaster.net/?tribe_events=bigger-bashment-hannover-ls-rebel-sound
LOCATION:Zur Bettfedernfabrik 3\, Hannover\, Niedersachsen\, 30451 \, Deutschland
END:VEVENT
END:VCALENDAR