BEGIN:VCALENDAR
VERSION:2.0
PRODID:-//Dynablaster Sound - ECPv4.5.2.1//NONSGML v1.0//EN
CALSCALE:GREGORIAN
METHOD:PUBLISH
X-WR-CALNAME:Dynablaster Sound
X-ORIGINAL-URL:https://sandbox.dynablaster.net
X-WR-CALDESC:Events for Dynablaster Sound
BEGIN:VEVENT
DTSTART;TZID=UTC+2:20190309T220000
DTEND;TZID=UTC+2:20190310T060000
DTSTAMP:20260421T121244
CREATED:20190117T123535Z
LAST-MODIFIED:20190117T123620Z
UID:330-1552168800-1552197600@sandbox.dynablaster.net
SUMMARY:TUN UP LOUD / Dynablaster at GrooveStation Dresden 09.März
DESCRIPTION:\n\nTUN UP LOUD – Round #34\nDancehall | Reggae | Bassmusic at GrooveStation Dresden\n\nDynablaster Sound – big tings a gwaan!\n\nWenn die Jungs aus Berlin und Bielefeld die Tanzhalle betreten\, bleibt keine Hüfte und kein Tanzbein unbewegt.\n\nSeit nunmehr 15 Jahren gehören tanzbarer Dancehall\, Reggae und Soca zum Hauptbestandteile ihres breit gefächerten Reportoires\, mit dem sie es verstehen das Publikum zu rocken. Zudem wird am Mic der Massive ordentlich eingeheizt.\n\nNeben eigenen Dances ist das Soundsystem auch auf »Road Marches«\, wie den »Karneval der Kulturen« in Berlin\, auf einem Truck zu sehen.\n\nDas Ganze wird musikalisch wieder von den Residents Selecta HurryCan\, NIMBLE und SpektahFlo (Tropic Hill) mit High-Class-Mixes abgerundet. Steige ein in den Zug in Richtung Sommer!\n\nEs wird wieder tropisch in deinem Hot-Spot für Dancehall- und Reggae-Musik\, soviel ist gewiss …\n\n»Tun Up Loud … gwaan mawd\, again!«\n\n----------------------------------------\nAk: Nice price all night long\n----------------------------------------\nfb.me/dynablastersound\ninstagr.am/dynablastersound\ndynablaster.net\n----------------------------------------\nfb.me/SelectaHurryCan\ninstagr.am/selecta.hurrycan\nfb.me/tropichill\ntropichill.com\ninstagr.am/tropichillentertainment\nfb.me/SubSoundRockaz\nfb.me/dresden.massive\n----------------------------------------\nwww.groovestation.de\ntwitter.com/groovestationdd\ninstagr.am/groovestationdresden\nfb.me/groovestationdresden\n----------------------------------------\nGrooveStation\nKatharinenstraße 11–13\n01099 Dresden
URL:https://sandbox.dynablaster.net/?tribe_events=330
LOCATION:Katharinenstraße 11–13\, Dresden\, Sachsen \, 01099
END:VEVENT
END:VCALENDAR