BEGIN:VCALENDAR
VERSION:2.0
PRODID:-//Dynablaster Sound - ECPv4.5.2.1//NONSGML v1.0//EN
CALSCALE:GREGORIAN
METHOD:PUBLISH
X-WR-CALNAME:Dynablaster Sound
X-ORIGINAL-URL:https://sandbox.dynablaster.net
X-WR-CALDESC:Events for Dynablaster Sound
BEGIN:VEVENT
DTSTART;TZID=UTC+2:20190418T220000
DTEND;TZID=UTC+2:20190419T070000
DTSTAMP:20260421T121641
CREATED:20190406T110306Z
LAST-MODIFIED:20190406T110306Z
UID:373-1555624800-1555657200@sandbox.dynablaster.net
SUMMARY:20 Jahre Grooving Smokers @ Hoppetosse\, Berlin
DESCRIPTION:Live Artist:\nGanjaman\nMAL ÉLEVÉ\nVido Jelashe\nGUNJAH DELUXE*\nSAMMY DREAD\n\nDJ / Sounds:\nMYSTIC ROOTS\nSOLID GROUND\nTRIPLE D\nDYNABLASTER\nLOU LARGE\nSELEKTA MIK\nSELECTA G.
URL:https://sandbox.dynablaster.net/?tribe_events=20-jahre-grooving-smokers-hoppetosse-berlin
END:VEVENT
END:VCALENDAR